BEGIN:VCALENDAR
VERSION:2.0
PRODID:-//PYVOBJECT//NONSGML Version 0.9.9//EN
BEGIN:VTIMEZONE
TZID:CET
BEGIN:STANDARD
DTSTART:20001029T040000
RRULE:FREQ=YEARLY;BYDAY=-1SU;BYMONTH=10
TZNAME:CET
TZOFFSETFROM:+0200
TZOFFSETTO:+0100
END:STANDARD
BEGIN:DAYLIGHT
DTSTART:20000326T030000
RRULE:FREQ=YEARLY;BYDAY=-1SU;BYMONTH=3
TZNAME:CEST
TZOFFSETFROM:+0100
TZOFFSETTO:+0200
END:DAYLIGHT
END:VTIMEZONE
BEGIN:VEVENT
UID:event-3
DTSTART;TZID=CET:20170630T183000
DTEND;TZID=CET:20170630T210000
DESCRIPTION:Alumni-Lounge - Veranstaltung
DTSTAMP:20260422T131722Z
GEO:50.126772,8.667202
LOCATION:Theodor-W.-Adorno-Platz 1\, Campus Westend\, 60629 Frankfurt am Ma
 in
SUMMARY:Alumni-Lounge
URL:https://alumni-fb03-frankfurt.de/events/3/
END:VEVENT
END:VCALENDAR
